BEGIN:VCALENDAR
VERSION:2.0
PRODID:-//SlanýTV - ECPv6.15.14//NONSGML v1.0//EN
CALSCALE:GREGORIAN
METHOD:PUBLISH
X-WR-CALNAME:SlanýTV
X-ORIGINAL-URL:https://www.slanytv.cz
X-WR-CALDESC:Akce na SlanýTV
REFRESH-INTERVAL;VALUE=DURATION:PT1H
X-Robots-Tag:noindex
X-PUBLISHED-TTL:PT1H
BEGIN:VTIMEZONE
TZID:Europe/Prague
BEGIN:DAYLIGHT
TZOFFSETFROM:+0100
TZOFFSETTO:+0200
TZNAME:CEST
DTSTART:20210328T010000
END:DAYLIGHT
BEGIN:STANDARD
TZOFFSETFROM:+0200
TZOFFSETTO:+0100
TZNAME:CET
DTSTART:20211031T010000
END:STANDARD
BEGIN:DAYLIGHT
TZOFFSETFROM:+0100
TZOFFSETTO:+0200
TZNAME:CEST
DTSTART:20220327T010000
END:DAYLIGHT
BEGIN:STANDARD
TZOFFSETFROM:+0200
TZOFFSETTO:+0100
TZNAME:CET
DTSTART:20221030T010000
END:STANDARD
BEGIN:DAYLIGHT
TZOFFSETFROM:+0100
TZOFFSETTO:+0200
TZNAME:CEST
DTSTART:20230326T010000
END:DAYLIGHT
BEGIN:STANDARD
TZOFFSETFROM:+0200
TZOFFSETTO:+0100
TZNAME:CET
DTSTART:20231029T010000
END:STANDARD
BEGIN:DAYLIGHT
TZOFFSETFROM:+0100
TZOFFSETTO:+0200
TZNAME:CEST
DTSTART:20240331T010000
END:DAYLIGHT
BEGIN:STANDARD
TZOFFSETFROM:+0200
TZOFFSETTO:+0100
TZNAME:CET
DTSTART:20241027T010000
END:STANDARD
END:VTIMEZONE
BEGIN:VEVENT
DTSTART;TZID=Europe/Prague:20230513T140000
DTEND;TZID=Europe/Prague:20230513T160000
DTSTAMP:20260424T182347
CREATED:20230404T222504Z
LAST-MODIFIED:20230404T222504Z
UID:7840-1683986400-1683993600@www.slanytv.cz
SUMMARY:SLAVNOSTNÍ ZAHÁJENÍ TURISTICKÉ SEZÓNY - PUTOVÁNÍ DO DOLÍNA
DESCRIPTION:Zahajovací vycházka Turistické sezony 2023. Půjdeme ke kostelíku v Dolíně a cestou se společně s našimi průvodkyněmi dozvíte mnoho zajímavého. Čekají nás tato zastavení: klášter\, hřbitov- Golgota\, Sloup vinařů a rybářů\, výhled na Ovčárský kostelík\, archeologické nálezy při budování obchvatu města a Dolín kostel\, včetně interiéru. Vstup je zdarma.
URL:https://www.slanytv.cz/akce/slavnostni-zahajeni-turisticke-sezony-putovani-do-dolina/
LOCATION:Infocentrum Pod Velvarskou branou\, Velvarská 136\, Slaný\, 27401\, Česká republika
CATEGORIES:Turistické akce
ATTACH;FMTTYPE=image/jpeg:https://www.slanytv.cz/wp-content/uploads/2023/04/dolin.jpg
END:VEVENT
BEGIN:VEVENT
DTSTART;TZID=Europe/Prague:20230429T190000
DTEND;TZID=Europe/Prague:20230429T235000
DTSTAMP:20260424T182347
CREATED:20230407T204407Z
LAST-MODIFIED:20230407T204520Z
UID:7857-1682794800-1682812200@www.slanytv.cz
SUMMARY:Čarodějnice s pravou čarodějkou Peruc
DESCRIPTION:Už třetí sezónu čaruje na Peruci opravdová čarodějka od Boženiny studánky. Tentokrát si\, ale magie pro Vás nachystala celou fůru a rozhodla se\, že Vás do ní zasvětí.\nA to přímo v předvečer pro čarodějnictví a magii\, tak významného dne! To proto abyste na ten opravdový sabat byli dokonale připraveni.\nNa sobotní večer 29. 4. 2023  si pro Vás naše čarodějka ze studánky připravila „Filipojakubskou noc tak nějak jinak“ s temným vyprávěním. To první temné vyprávění v 19:00 hod.\, to pro odvážnější druhé temnější vyprávění ve 21:00 hod. a pro ty nejodvážnější  třetí nejtemnější vyprávění ve 23:00 hod.\nVstupné na vyprávění je 160\,- Kč za osobu\, senioři a studenti 140\,- Kč/osoba. Doporučujeme rezervaci času vyprávění na email: carodejkazestudanky@seznam.cz\, vstupenky se kupují na místě\, platí se hotově.\nUž od 18:00 hod. jako doplňkový program u Muzea České vesnice: Temnotu přímo na Vaše tělo či obličej Vám namaluje kouzelná lektorka Veronika\, klec na krkavce Vás naučí plést čarodějův učeň Petr a medovinou z hlubokých Křivoklátských lesů vše můžete zapít u lapky Václava.\nVyprávění začínáme u Boženiny studánky\, kouzlem aby se Vám splnilo jedno přání. A pak půjdeme spodní bránou do potemnělého zámeckého parku\, okolo staré zdi opuštěného židovského domu\, dále okolo polorozpadlého pivovaru\, uvidíte skálu a starou zeď na které stojí Perucký zámek a pak půjdeme temným parkem ke staré sýpce a pokud nepřekročíte bludný kořen\, vyvede Vás čarodějka ven z téměř 300 let starého zámeckého parku.\nPokud se Vám strachy podlomí kolena\, budete se moci posadit  na lavičky na trase.\nVyprávět si budeme nejen o čarodějnicích dříve a dnes\, ale například i o tom\, co je to opravdová magie a proč „Hony na čarodějnice“.\nBojíte se smrti? Tahle čarodějka na druhé straně už byla a tak moc dobře ví\, že smrtí to nekončí a taky co je to reinkarnace a jak souvisí s evolucí a naučí Vás řeč opravdových mágů atd. atd. atd.\n\nBojíte se? To je dobře! Tak to určitě přijďte!\nKouzelný a možná Váš poslední polibek posílá čarodějka!\n\nTěším se na Vás!\n\n\nKontaktní spojení na čarodějku:\n\nFB: Hanka Hanunu\nTel.:+420 775 333 891
URL:https://www.slanytv.cz/akce/7857/
LOCATION:Peruc
CATEGORIES:Ostatní
ATTACH;FMTTYPE=image/jpeg:https://www.slanytv.cz/wp-content/uploads/2023/04/carodejky-2023-peruc-novy.jpg
END:VEVENT
BEGIN:VEVENT
DTSTART;TZID=Europe/Prague:20230422T100000
DTEND;TZID=Europe/Prague:20230423T170000
DTSTAMP:20260424T182347
CREATED:20230404T223743Z
LAST-MODIFIED:20230404T223743Z
UID:7851-1682157600-1682269200@www.slanytv.cz
SUMMARY:1. KNIHOVNICKO ČTENÁŘSKÁ DÍLNA
DESCRIPTION:Výstava prací šikovných čtenářů a knihovnic slánské a kladenské městské knihovny. Vstupné na akci je zdarma. Součástí výstavy jsou rukodělné dílničky pro děti se vstupným 80 Kč/osoba.
URL:https://www.slanytv.cz/akce/1-knihovnicko-ctenarska-dilna/
LOCATION:Městské centrum Grand Slaný\, Třebízského 161\, Slaný\, 27401\, Česká republika
CATEGORIES:Ostatní
ATTACH;FMTTYPE=image/jpeg:https://www.slanytv.cz/wp-content/uploads/2023/04/2023_04_22-Knihovnicko-ctenarska-dilna1.jpg
ORGANIZER;CN="Knihovna V%C3%A1clava %C5%A0techa":MAILTO:info@knihovnaslany.cz
END:VEVENT
BEGIN:VEVENT
DTSTART;TZID=Europe/Prague:20230420T160000
DTEND;TZID=Europe/Prague:20230420T173000
DTSTAMP:20260424T182347
CREATED:20230404T223338Z
LAST-MODIFIED:20230404T223338Z
UID:7846-1682006400-1682011800@www.slanytv.cz
SUMMARY:DINOSAUŘI
DESCRIPTION:Fantastická přednáška paleontologa Štěpána Píchy
URL:https://www.slanytv.cz/akce/dinosauri/
LOCATION:Gymnázium V. B. Třebízského\, Smetanovo náměstí\, Slaný\, 27401\, Česká republika
CATEGORIES:Ostatní
ATTACH;FMTTYPE=image/jpeg:https://www.slanytv.cz/wp-content/uploads/2023/04/2023_04_20-Dinosauri.jpg
END:VEVENT
BEGIN:VEVENT
DTSTART;TZID=Europe/Prague:20230418T180000
DTEND;TZID=Europe/Prague:20230418T193000
DTSTAMP:20260424T182347
CREATED:20230404T222858Z
LAST-MODIFIED:20230404T222858Z
UID:7843-1681840800-1681846200@www.slanytv.cz
SUMMARY:SPORTOVEC ROKU 2022 STŘEDOČESKÉHO KRAJE
DESCRIPTION:  \n\nSPORTOVEC ROKU 2022 STŘEDOČESKÉHO KRAJE\n\n\n\n\n\n\n\n\nKdy:\n18.4.2023\n18:00 – 19:30\n\n\nKde:\nMěstské centrum Grand\nTřebízského 161\nSlaný\n\n\nPořadatel akce:\nStředočeský kraj ve spolupráci se\nStředočeskou organizací Česká unie sportu\n\n\n\n\n\n\nNejlepší sportovce\, kolektivy a trenéry můžete nominovat do 14. března 2023. \nVyhlašované kategorie ankety Sportovec Středočeského kraje za rok 2022: \n1. Nejlepší sportovec \n2. Největší sportovní talent \n3. Nejlepší sportovní kolektiv dospělých \n4. Nejlepší sportovní kolektiv mládeže \n5. Nejlepší trenér \n6. Nejlepší odchovanec \n7. Síň slávy \n8. Handicapovaný sportovec \nNominace do ankety probíhají přes webový formulář zde.
URL:https://www.slanytv.cz/akce/sportovec-roku-2022-stredoceskeho-kraje/
LOCATION:Městské centrum Grand Slaný\, Třebízského 161\, Slaný\, 27401\, Česká republika
CATEGORIES:Ostatní
ATTACH;FMTTYPE=image/jpeg:https://www.slanytv.cz/wp-content/uploads/2023/04/sportovec.jpg
END:VEVENT
BEGIN:VEVENT
DTSTART;TZID=Europe/Prague:20230414T190000
DTEND;TZID=Europe/Prague:20230414T210000
DTSTAMP:20260424T182347
CREATED:20230407T202718Z
LAST-MODIFIED:20230407T202718Z
UID:7854-1681498800-1681506000@www.slanytv.cz
SUMMARY:PUTOVÁNÍ PO HVĚZDÁCH PROMĚNNÝCH
DESCRIPTION:
URL:https://www.slanytv.cz/akce/putovani-po-hvezdach-promennych/
LOCATION:Hvězdárna Jaroslava Trnky ve Slaném\, Nosačická 1713\, Slaný\, 27401\, Česká republika
CATEGORIES:Ostatní
ATTACH;FMTTYPE=image/jpeg:https://www.slanytv.cz/wp-content/uploads/2023/04/Zbynekputovani.jpg
ORGANIZER;CN="Hv%C4%9Bzd%C3%A1rna Jaroslava Trnky ve Slan%C3%A9m":MAILTO:hvezdarna@meuslany.cz
END:VEVENT
BEGIN:VEVENT
DTSTART;TZID=Europe/Prague:20221202T180000
DTEND;TZID=Europe/Prague:20230101T180000
DTSTAMP:20260424T182347
CREATED:20221125T232441Z
LAST-MODIFIED:20221125T232441Z
UID:7653-1670004000-1672596000@www.slanytv.cz
SUMMARY:Advent ve Slaném
DESCRIPTION:ADVENT VE SLANÉM 2022 \n  \nVýstava Nákupní horečka ve Slaném / Vlastivědné muzeum ve Slaném \nVýstava Chvála ruční práce ve vánočním hávu / Vlastivědné muzeum ve Slaném \nSoutěž s výstavou o Nejkrásnější stromeček / Knihovna V. Štecha \n  \n02. 12. od 18.00 Vánoční hudba na náměstí – Vlasta Horváth s kapelou / Masarykovo náměstí \n03. 12. od 14.30 a od 16.30 Mikulášské veřejné bruslení / VSH Slaný \n04. 12. od 14.00 Mikuláš ve slánském aquaparku / Aquapark Slaný \n04. 12. od 19.00 Vánoční koncert Chorus Carolinus / Vlastivědné muzeum ve Slaném – kaple \n05. 12. od 16.00 Mikuláš pro všechny / Masarykovo náměstí \n06. 12. od 16.00 Vánoční kamion Coca-Cola / Masarykovo náměstí \n08. 12. od 17.00 Vánoční koncert – hrají žáci ZŠ Háje / Vlastivědné muzeum ve Slaném – kaple \n08. 12. od 17.30 Keramická dílna – Malovaná dlaždice / Ostrov Slaný \n09. 12. od 18.00 Vánoční hudba na náměstí – Magda Malá / Masarykovo náměstí \n09. 12. od 20.00 Adventní vycházka s překvapením / Infocentrum Pod Velvarskou branou \n10. 12. od 9.00 Den pro dětskou knihu / Knihovna V. Štecha \n10. 12. od 19.30 Daniel Hůlka a Jiří Škorpík / Městské divadlo \n11. 12. od 13.00 Loutkové divadlo / Vlastivědné muzeum ve Slaném \n13. 12. od 16.00 Loutkové divadlo / Vlastivědné muzeum ve Slaném\n15. 12. od 16.00 Loutkové divadlo / Vlastivědné muzeum ve Slaném \n12. 12. od 18.00 Vánoční koncert Consortium Camerale Slanense / Flauti Vivace / Městské divadlo \n13. 12. od 17.00 Vánoční koncert žáků ZUŠ Slaný / Vlastivědné muzeum ve Slaném – kaple \n14. 12. od 17.00 Vánoční koncert žáků ZUŠ Slaný + Vánoční hra Betlém / Vlastivědné muzeum ve Slaném – kaple \n16. 12. od 18.00 Mystérium hvězdy betlémské / Hvězdárna Jaroslava Trnky \n17. 12. od 10.00 Řezbářský kurz – výroba betlému / Vlastivědné muzeum ve Slaném \n17. 12. od 17.00 Benefiční koncert Farní charity Slaný – Gladness / kostel sv. Gotharda \n18. 12. od 15.00 a od 17.00 Co se stalo o Vánocích / Městské divadlo \n18. 12. od 18.00 Koncert pro radost – živě na SlanyTV \n19. 12. od 17.00 a od 18.00 Komentovaná prohlídka kostela sv. Gotharda / kostel sv. Gotharda \n24. 12. od 14.00 Slánské vánoční zpívání / Masarykovo náměstí \n01. 01. 2023 od 16.00 Tříkrálový průvod / Masarykovo náměstí\n01. 01. 2023 od 18.00 Novoroční ohňostroj / Masarykovo náměstí
URL:https://www.slanytv.cz/akce/advent-ve-slanem/
LOCATION:Královské město Slaný\, Slaný\, 27401
CATEGORIES:Hudební akce,Kulturní akce,Ostatní,Společenské akce,Živé vysílání
ATTACH;FMTTYPE=image/jpeg:https://www.slanytv.cz/wp-content/uploads/2022/11/advent_ve_slanem_2022_plakat.jpg
END:VEVENT
BEGIN:VEVENT
DTSTART;TZID=Europe/Prague:20221022T150000
DTEND;TZID=Europe/Prague:20221022T160000
DTSTAMP:20260424T182347
CREATED:20221004T204249Z
LAST-MODIFIED:20221004T204249Z
UID:7616-1666450800-1666454400@www.slanytv.cz
SUMMARY:DLOUHÝ\, ŠIROKÝ A BYSTROZRAKÝ
DESCRIPTION:Loutková pohádka plná divadelních kouzel pro všechny\, co se rádi baví i dojímají nad klasickými pohádkovými příběhy. Vhodné pro děti do 3 let. Rezervace NUTNÁ na tel. čísle 312 522 238
URL:https://www.slanytv.cz/akce/dlouhy-siroky-a-bystrozraky/
LOCATION:Hotel Hejtmanský dvůr\, Masarykovo náměstí 114\, Slaný\, Středočeský\, 27401\, Česká republika
CATEGORIES:Kulturní akce
ATTACH;FMTTYPE=image/jpeg:https://www.slanytv.cz/wp-content/uploads/2022/10/dsb-scaled.jpg
ORGANIZER;CN="Knihovna V%C3%A1clava %C5%A0techa":MAILTO:info@knihovnaslany.cz
END:VEVENT
BEGIN:VEVENT
DTSTART;TZID=Europe/Prague:20220609T170000
DTEND;TZID=Europe/Prague:20221016T160000
DTSTAMP:20260424T182347
CREATED:20221004T203036Z
LAST-MODIFIED:20221004T203036Z
UID:7612-1654794000-1665936000@www.slanytv.cz
SUMMARY:ZDENĚK MILER NEJEN KRTEK
DESCRIPTION:Významného regionálního výtvarníka\, rodáka z blízkého Kladna\, autora nesmrtelného Krtečka a dalších postav představí výstava Zdeněk Miler nejen Krtek\, kterou je uspořádána ve spolupráci s Kladenským zámkem. Expozice určená hlavně dětem a atraktivní formou představuje osobnost mezinárodně proslulého výtvarníka a režiséra\, autora oblíbeného Krtečka Zdeňka Milera (1921-2011)\, ale především jeho typické kreslené postavy zvířátek. Výstava nabídne mj. promítání animovaných filmů\, dětský koutek\, ale i jiné ukázky z unikátního díla Z. Milera a upomínkové předměty.\nDoprovodným programem k výstavě bude Dětský den v sobotu 22. července na Masarykově náměstí.
URL:https://www.slanytv.cz/akce/zdenek-miler-nejen-krtek/
LOCATION:Vlastivědné muzeum ve Slaném\, Masarykovo náměstí 159\, Slaný\, Středočeský\, 27401\, Česká republika
CATEGORIES:Kulturní akce
ATTACH;FMTTYPE=image/png:https://www.slanytv.cz/wp-content/uploads/2022/10/krtek.png
ORGANIZER;CN="Vlastiv%C4%9Bdn%C3%A9 muzeum ve Slan%C3%A9m":MAILTO:cecrdle@muzeumslany.cz
END:VEVENT
BEGIN:VEVENT
DTSTART;TZID=Europe/Prague:20220503T080000
DTEND;TZID=Europe/Prague:20221031T160000
DTSTAMP:20260424T182347
CREATED:20221004T202516Z
LAST-MODIFIED:20221004T202516Z
UID:7608-1651564800-1667232000@www.slanytv.cz
SUMMARY:VELVARSKÁ BRÁNA A EXPOZICE OPEVNĚNÍ KRÁLOVSKÉHO MĚSTA SLANÝ
DESCRIPTION:Velvarská brána a expozice opevnění královského města Slaný.\nProhlídky objednávejte ve Vlastivědném muzeu Slaný\,\ntel.: 725 343 028\nmail: pruvodci@muzeumslany.cz\nVstup 40 Kč/každý návštěvník\nOtevřeno denně kromě pondělků
URL:https://www.slanytv.cz/akce/velvarska-brana-a-expozice-opevneni-kralovskeho-mesta-slany/
LOCATION:Masarykovo náměstí\, Slaný\, 27401\, Česká republika
CATEGORIES:Kulturní akce
ATTACH;FMTTYPE=image/png:https://www.slanytv.cz/wp-content/uploads/2022/10/Muzeum-velvarska-brana-final-plakat-2022.png
ORGANIZER;CN="Vlastiv%C4%9Bdn%C3%A9 muzeum ve Slan%C3%A9m":MAILTO:cecrdle@muzeumslany.cz
END:VEVENT
END:VCALENDAR